BEGIN:VCALENDAR
VERSION:2.0
PRODID:SchoolNow
CALSCALE:GREGORIAN
BEGIN:VEVENT
UID:cd7644d6-dd17-11f0-9e35-0a58a9feac02
DTSTAMP:20251219T201754Z
SUMMARY:CDD Board Meeting - Jun. 2026
LOCATION:Offices of Cascades Clubhouse\, 5459 Cotillion Boulevard\, Brooksv
 ille\, FL 34601
URL;VALUE=URI:https://www.shplantation2cdd.org/calendar/8826458/cdd-board-m
 eeting-jun-2026
DTSTART:20260612T143000Z
DTEND:20260612T153000Z
END:VEVENT
END:VCALENDAR
