BEGIN:VCALENDAR
VERSION:2.0
PRODID:SchoolNow
CALSCALE:GREGORIAN
BEGIN:VEVENT
UID:bea22cb8-dd17-11f0-9ad5-0a58a9feac02
DTSTAMP:20251219T201730Z
SUMMARY:CDD Board Meeting - May 2026
LOCATION:Offices of Cascades Clubhouse\, 5459 Cotillion Boulevard\, Brooksv
 ille\, FL 34601
URL;VALUE=URI:https://www.shplantation2cdd.org/calendar/8826457/cdd-board-m
 eeting-may-2026
DTSTART:20260508T143000Z
DTEND:20260508T153000Z
END:VEVENT
END:VCALENDAR
