BEGIN:VCALENDAR
VERSION:2.0
PRODID:SchoolNow
CALSCALE:GREGORIAN
BEGIN:VEVENT
UID:af51fe96-dd17-11f0-acf9-0a58a9feac02
DTSTAMP:20260327T145013Z
SUMMARY:CDD Board Meeting - Apr. 2026 - Cancelled
LOCATION:Offices of Cascades Clubhouse\, 5459 Cotillion Boulevard\, Brooksv
 ille\, FL 34601
URL;VALUE=URI:https://www.shplantation2cdd.org/calendar/8826456/cdd-board-m
 eeting-apr-2026
DTSTART:20260410T143000Z
DTEND:20260410T153000Z
END:VEVENT
END:VCALENDAR
